BEGIN:VCALENDAR
VERSION:2.0
PRODID:-//Texas Court Classes - ECPv6.15.17.1//NONSGML v1.0//EN
CALSCALE:GREGORIAN
METHOD:PUBLISH
X-WR-CALNAME:Texas Court Classes
X-ORIGINAL-URL:https://texascourtclasses.com
X-WR-CALDESC:Events for Texas Court Classes
REFRESH-INTERVAL;VALUE=DURATION:PT1H
X-Robots-Tag:noindex
X-PUBLISHED-TTL:PT1H
BEGIN:VTIMEZONE
TZID:America/Chicago
BEGIN:DAYLIGHT
TZOFFSETFROM:-0600
TZOFFSETTO:-0500
TZNAME:CDT
DTSTART:20250309T080000
END:DAYLIGHT
BEGIN:STANDARD
TZOFFSETFROM:-0500
TZOFFSETTO:-0600
TZNAME:CST
DTSTART:20251102T070000
END:STANDARD
BEGIN:DAYLIGHT
TZOFFSETFROM:-0600
TZOFFSETTO:-0500
TZNAME:CDT
DTSTART:20260308T080000
END:DAYLIGHT
BEGIN:STANDARD
TZOFFSETFROM:-0500
TZOFFSETTO:-0600
TZNAME:CST
DTSTART:20261101T070000
END:STANDARD
BEGIN:DAYLIGHT
TZOFFSETFROM:-0600
TZOFFSETTO:-0500
TZNAME:CDT
DTSTART:20270314T080000
END:DAYLIGHT
BEGIN:STANDARD
TZOFFSETFROM:-0500
TZOFFSETTO:-0600
TZNAME:CST
DTSTART:20271107T070000
END:STANDARD
END:VTIMEZONE
BEGIN:VEVENT
DTSTART;TZID=America/Chicago:20260425T100000
DTEND;TZID=America/Chicago:20260425T130000
DTSTAMP:20260425T153853
CREATED:20260305T165638Z
LAST-MODIFIED:20260305T165638Z
UID:10002110-1777111200-1777122000@texascourtclasses.com
SUMMARY:3 Hour: Zoom Course: Victim Impact Panel (VIP) – April 25\, 2026\, 10:00 am - 1:00 pm. This is 1 class that lasts 3 hours.
DESCRIPTION:Saturday\, April 25\, 2026 \nMust have audio & video capabilities for Zoom course.
URL:https://texascourtclasses.com/event/3-hour-zoom-course-victim-impact-panel-vip-april-25-2026-1000-am-100-pm-this-is-1-class-that-lasts-3-hours/
LOCATION:Virtual Event
CATEGORIES:VIP
END:VEVENT
END:VCALENDAR